BEGIN:VCALENDAR
VERSION:2.0
PRODID:-//Sawbridgeworth Local History Society - ECPv6.10.3//NONSGML v1.0//EN
CALSCALE:GREGORIAN
METHOD:PUBLISH
X-WR-CALNAME:Sawbridgeworth Local History Society
X-ORIGINAL-URL:https://sbwhistory.com
X-WR-CALDESC:Events for Sawbridgeworth Local History Society
REFRESH-INTERVAL;VALUE=DURATION:PT1H
X-Robots-Tag:noindex
X-PUBLISHED-TTL:PT1H
BEGIN:VTIMEZONE
TZID:Europe/London
BEGIN:DAYLIGHT
TZOFFSETFROM:+0000
TZOFFSETTO:+0100
TZNAME:BST
DTSTART:20240331T010000
END:DAYLIGHT
BEGIN:STANDARD
TZOFFSETFROM:+0100
TZOFFSETTO:+0000
TZNAME:GMT
DTSTART:20241027T010000
END:STANDARD
END:VTIMEZONE
BEGIN:VEVENT
DTSTART;TZID=Europe/London:20240606T110000
DTEND;TZID=Europe/London:20240606T120000
DTSTAMP:20260424T204207
CREATED:20240528T164825Z
LAST-MODIFIED:20240528T164825Z
UID:6444-1717671600-1717675200@sbwhistory.com
SUMMARY:80th Anniversary of D-Day Wreath Laying
DESCRIPTION:80th Anniversary of D-Day Wreath Laying at Great St Marys Church
URL:https://sbwhistory.com/event/80th-anniversary-of-d-day-wreath-laying/
LOCATION:Church St\, Sawbridgeworth CM21 9AJ\, Church St\,\, Sawbridgeworth\, CM21 9AJ\, United Kingdom
END:VEVENT
END:VCALENDAR