BEGIN:VCALENDAR
VERSION:2.0
PRODID:-//Sawbridgeworth Local History Society - ECPv6.10.3//NONSGML v1.0//EN
CALSCALE:GREGORIAN
METHOD:PUBLISH
X-WR-CALNAME:Sawbridgeworth Local History Society
X-ORIGINAL-URL:https://sbwhistory.com
X-WR-CALDESC:Events for Sawbridgeworth Local History Society
REFRESH-INTERVAL;VALUE=DURATION:PT1H
X-Robots-Tag:noindex
X-PUBLISHED-TTL:PT1H
BEGIN:VTIMEZONE
TZID:Europe/London
BEGIN:DAYLIGHT
TZOFFSETFROM:+0000
TZOFFSETTO:+0100
TZNAME:BST
DTSTART:20250330T010000
END:DAYLIGHT
BEGIN:STANDARD
TZOFFSETFROM:+0100
TZOFFSETTO:+0000
TZNAME:GMT
DTSTART:20251026T010000
END:STANDARD
END:VTIMEZONE
BEGIN:VEVENT
DTSTART;TZID=Europe/London:20250925T190000
DTEND;TZID=Europe/London:20250925T210000
DTSTAMP:20260423T222535
CREATED:20250831T200132Z
LAST-MODIFIED:20250831T200132Z
UID:7160-1758826800-1758834000@sbwhistory.com
SUMMARY:Talk - Land Girls\, Brocket Babies and Beyond by Sarah Kerrison
DESCRIPTION:Tickets available on the door.
URL:https://sbwhistory.com/event/talk-land-girls-brocket-babies-and-beyond-by-sarah-kerrison/
LOCATION:The Hailey Centre\, Bell Street Car Park\, Sawbridgeworth\, CM21 9AN\, United Kingdom
CATEGORIES:Talks
END:VEVENT
END:VCALENDAR