BEGIN:VCALENDAR
VERSION:2.0
PRODID:-//Sawbridgeworth Local History Society - ECPv6.10.3//NONSGML v1.0//EN
CALSCALE:GREGORIAN
METHOD:PUBLISH
X-ORIGINAL-URL:https://sbwhistory.com
X-WR-CALDESC:Events for Sawbridgeworth Local History Society
REFRESH-INTERVAL;VALUE=DURATION:PT1H
X-Robots-Tag:noindex
X-PUBLISHED-TTL:PT1H
BEGIN:VTIMEZONE
TZID:Europe/London
BEGIN:DAYLIGHT
TZOFFSETFROM:+0000
TZOFFSETTO:+0100
TZNAME:BST
DTSTART:20260329T010000
END:DAYLIGHT
BEGIN:STANDARD
TZOFFSETFROM:+0100
TZOFFSETTO:+0000
TZNAME:GMT
DTSTART:20261025T010000
END:STANDARD
END:VTIMEZONE
BEGIN:VEVENT
DTSTART;TZID=Europe/London:20260924T190000
DTEND;TZID=Europe/London:20260924T210000
DTSTAMP:20260423T182439
CREATED:20260131T190606Z
LAST-MODIFIED:20260131T191406Z
UID:7236-1790276400-1790283600@sbwhistory.com
SUMMARY:Talk - The History of Audley End House by Tim Turner
DESCRIPTION:
URL:https://sbwhistory.com/event/the-history-of-audley-end-house-by-tim-turner/
CATEGORIES:Talks
END:VEVENT
END:VCALENDAR