BEGIN:VCALENDAR
VERSION:2.0
PRODID:-//Sawbridgeworth Local History Society - ECPv6.10.3//NONSGML v1.0//EN
CALSCALE:GREGORIAN
METHOD:PUBLISH
X-ORIGINAL-URL:https://sbwhistory.com
X-WR-CALDESC:Events for Sawbridgeworth Local History Society
REFRESH-INTERVAL;VALUE=DURATION:PT1H
X-Robots-Tag:noindex
X-PUBLISHED-TTL:PT1H
BEGIN:VTIMEZONE
TZID:Europe/London
BEGIN:DAYLIGHT
TZOFFSETFROM:+0000
TZOFFSETTO:+0100
TZNAME:BST
DTSTART:20260329T010000
END:DAYLIGHT
BEGIN:STANDARD
TZOFFSETFROM:+0100
TZOFFSETTO:+0000
TZNAME:GMT
DTSTART:20261025T010000
END:STANDARD
END:VTIMEZONE
BEGIN:VEVENT
DTSTART;TZID=Europe/London:20261029T190000
DTEND;TZID=Europe/London:20261029T210000
DTSTAMP:20260423T210503
CREATED:20260131T190948Z
LAST-MODIFIED:20260131T191058Z
UID:7240-1793300400-1793307600@sbwhistory.com
SUMMARY:Talk - Inspector Morse\, a look behind the scenes of the award winning TV series by Lindsay Siviter – Crime Historian
DESCRIPTION:Inspector Morse\, a look behind the scenes of the award winning TV series by Lindsay Siviter – Crime Historian. \nTickets will be made available here to book in advance.
URL:https://sbwhistory.com/event/talk-inspector-morse-a-look-behind-the-scenes-of-the-award-winning-tv-series-by-lindsay-siviter-crime-historian/
LOCATION:Sawbridgeworth Memorial Hall\, The Forebury\,\, Sawbridgeworth\, CM21 9BD\, United Kingdom
CATEGORIES:Talks
END:VEVENT
BEGIN:VEVENT
DTSTART;VALUE=DATE:20261107
DTEND;VALUE=DATE:20261108
DTSTAMP:20260423T210503
CREATED:20260131T191840Z
LAST-MODIFIED:20260131T191851Z
UID:7255-1794009600-1794095999@sbwhistory.com
SUMMARY:Event - Nostalgia Day
DESCRIPTION:
URL:https://sbwhistory.com/event/nostalgia-day-2/
LOCATION:Sawbridgeworth Memorial Hall\, The Forebury\,\, Sawbridgeworth\, CM21 9BD\, United Kingdom
END:VEVENT
BEGIN:VEVENT
DTSTART;VALUE=DATE:20261108
DTEND;VALUE=DATE:20261109
DTSTAMP:20260423T210503
CREATED:20260131T192014Z
LAST-MODIFIED:20260131T192014Z
UID:7258-1794096000-1794182399@sbwhistory.com
SUMMARY:Event - Remembrance Day - Wreath Laying at War Memorials in Sawbridgeworth and High Wych)
DESCRIPTION:
URL:https://sbwhistory.com/event/event-remembrance-day-wreath-laying-at-war-memorials-in-sawbridgeworth-and-high-wych/
LOCATION:Sawbridgeworth
END:VEVENT
BEGIN:VEVENT
DTSTART;TZID=Europe/London:20261126T190000
DTEND;TZID=Europe/London:20261126T210000
DTSTAMP:20260423T210503
CREATED:20260131T191204Z
LAST-MODIFIED:20260131T192327Z
UID:7243-1795719600-1795726800@sbwhistory.com
SUMMARY:Talk - The Women of Bletchley Park by Mike Barbakoff
DESCRIPTION:Tickets will be made available here to book in advance.
URL:https://sbwhistory.com/event/talk-the-women-of-bletchley-park-by-mike-barbakoff/
LOCATION:Sawbridgeworth Memorial Hall\, The Forebury\,\, Sawbridgeworth\, CM21 9BD\, United Kingdom
END:VEVENT
END:VCALENDAR