BEGIN:VCALENDAR
VERSION:2.0
PRODID:-//Sawbridgeworth Local History Society - ECPv6.10.3//NONSGML v1.0//EN
CALSCALE:GREGORIAN
METHOD:PUBLISH
X-ORIGINAL-URL:https://sbwhistory.com
X-WR-CALDESC:Events for Sawbridgeworth Local History Society
REFRESH-INTERVAL;VALUE=DURATION:PT1H
X-Robots-Tag:noindex
X-PUBLISHED-TTL:PT1H
BEGIN:VTIMEZONE
TZID:Europe/London
BEGIN:DAYLIGHT
TZOFFSETFROM:+0000
TZOFFSETTO:+0100
TZNAME:BST
DTSTART:20240331T010000
END:DAYLIGHT
BEGIN:STANDARD
TZOFFSETFROM:+0100
TZOFFSETTO:+0000
TZNAME:GMT
DTSTART:20241027T010000
END:STANDARD
END:VTIMEZONE
BEGIN:VEVENT
DTSTART;TZID=Europe/London:20240725T190000
DTEND;TZID=Europe/London:20240725T210000
DTSTAMP:20260424T174149
CREATED:20240613T174129Z
LAST-MODIFIED:20240710T200009Z
UID:6592-1721934000-1721941200@sbwhistory.com
SUMMARY:Talk - Stephen Vincent - The Barlow Family\, Local Doulton Artists
DESCRIPTION:
URL:https://sbwhistory.com/event/talk-stephen-vincent-the-barlow-family-local-doulton-artists/
LOCATION:The Hailey Centre\, Bell Street Car Park\, Sawbridgeworth\, CM21 9AN\, United Kingdom
END:VEVENT
END:VCALENDAR