BEGIN:VCALENDAR
VERSION:2.0
PRODID:-//Sawbridgeworth Local History Society - ECPv6.10.3//NONSGML v1.0//EN
CALSCALE:GREGORIAN
METHOD:PUBLISH
X-WR-CALNAME:Sawbridgeworth Local History Society
X-ORIGINAL-URL:https://sbwhistory.com
X-WR-CALDESC:Events for Sawbridgeworth Local History Society
REFRESH-INTERVAL;VALUE=DURATION:PT1H
X-Robots-Tag:noindex
X-PUBLISHED-TTL:PT1H
BEGIN:VTIMEZONE
TZID:Europe/London
BEGIN:DAYLIGHT
TZOFFSETFROM:+0000
TZOFFSETTO:+0100
TZNAME:BST
DTSTART:20240331T010000
END:DAYLIGHT
BEGIN:STANDARD
TZOFFSETFROM:+0100
TZOFFSETTO:+0000
TZNAME:GMT
DTSTART:20241027T010000
END:STANDARD
END:VTIMEZONE
BEGIN:VEVENT
DTSTART;TZID=Europe/London:20241109T100000
DTEND;TZID=Europe/London:20241109T140000
DTSTAMP:20260424T114737
CREATED:20240528T165904Z
LAST-MODIFIED:20240528T165904Z
UID:6451-1731146400-1731160800@sbwhistory.com
SUMMARY:Nostalgia Day
DESCRIPTION:Join us at the Sawbridgworth Memorial Hall for Nostagia Day
URL:https://sbwhistory.com/event/nostalgia-day/
LOCATION:Sawbridgeworth Memorial Hall\, The Forebury\,\, Sawbridgeworth\, CM21 9BD\, United Kingdom
END:VEVENT
BEGIN:VEVENT
DTSTART;TZID=Europe/London:20241128T190000
DTEND;TZID=Europe/London:20241128T210000
DTSTAMP:20260424T114737
CREATED:20240613T174309Z
LAST-MODIFIED:20240814T153830Z
UID:6594-1732820400-1732827600@sbwhistory.com
SUMMARY:Talk - Barry Pyle - The Freemasons in Sawbridgeworth
DESCRIPTION:
URL:https://sbwhistory.com/event/talk-barry-pyle-the-freemasons-in-sawbridgeworth/
LOCATION:The Hailey Centre\, Bell Street Car Park\, Sawbridgeworth\, CM21 9AN\, United Kingdom
END:VEVENT
END:VCALENDAR